BEGIN:VCALENDAR
VERSION:2.0
PRODID:-//Turanga Creek - ECPv6.2.2//NONSGML v1.0//EN
CALSCALE:GREGORIAN
METHOD:PUBLISH
X-WR-CALNAME:Turanga Creek
X-ORIGINAL-URL:https://turangacreek.co.nz
X-WR-CALDESC:Events for Turanga Creek
REFRESH-INTERVAL;VALUE=DURATION:PT1H
X-Robots-Tag:noindex
X-PUBLISHED-TTL:PT1H
BEGIN:VTIMEZONE
TZID:Pacific/Auckland
BEGIN:STANDARD
TZOFFSETFROM:+1300
TZOFFSETTO:+1200
TZNAME:NZST
DTSTART:20260404T140000
END:STANDARD
BEGIN:DAYLIGHT
TZOFFSETFROM:+1200
TZOFFSETTO:+1300
TZNAME:NZDT
DTSTART:20260926T140000
END:DAYLIGHT
END:VTIMEZONE
BEGIN:VEVENT
DTSTART;TZID=Pacific/Auckland:20260509T100000
DTEND;TZID=Pacific/Auckland:20260509T140000
DTSTAMP:20260425T063158
CREATED:20260212T200556Z
LAST-MODIFIED:20260324T062525Z
UID:10000248-1778320800-1778335200@turangacreek.co.nz
SUMMARY:Rest and Restore Retreat at Turanga Creek Vineyard
DESCRIPTION:Rest & Restore Retreat at Turanga Creek Vineyard\n\n2026 Dates have been announced:\nSaturday\, 9th May\nSaturday\, 1st August \nEach session will run from 10am until 2pm \n10am – Setting intention and breath work\n10:15am – Gentle Yoga\n11am to 11:15am – Talk “Self Love” with Tammy McCann\n11:15am to 11:45am – Mat Pilates\n11:45am to 12pm – Melt Method Roller\n12pm to 1pm – Lunch\n1pm to 1:45pm – Yin Yoga\n1:45pm to 2pm – Meditation \n$118 per session
URL:https://turangacreek.co.nz/the-event/rest-and-restore-retreat-at-turanga-creek-vineyard/
LOCATION:Turanga Creek Vineyard
ATTACH;FMTTYPE=image/jpeg:https://turangacreek.co.nz/wp-content/uploads/2026/02/image001.jpg
END:VEVENT
BEGIN:VEVENT
DTSTART;TZID=Pacific/Auckland:20260510T090000
DTEND;TZID=Pacific/Auckland:20260510T130000
DTSTAMP:20260425T063158
CREATED:20260405T210537Z
LAST-MODIFIED:20260405T210538Z
UID:10000259-1778403600-1778418000@turangacreek.co.nz
SUMMARY:Mother's Day Market at Turanga Creek Vineyard
DESCRIPTION:Join us this Mother’s Day for our Market Day! \nSunday\, 10th May 2026\n9am until 1pm \nFREE ENTRY \nStallholders – $50\nContact Rochelle Fleming – events@turangacreek.co.nz \nMother’s Day High Tea will be running inside the Main Building as well \nMother’s Day High Tea @ Turanga Creek
URL:https://turangacreek.co.nz/the-event/mothers-day-market-at-turanga-creek-vineyard/
LOCATION:Turanga Creek Vineyard
ATTACH;FMTTYPE=image/png:https://turangacreek.co.nz/wp-content/uploads/2026/04/Mothers-Day-Market-2026.png
END:VEVENT
BEGIN:VEVENT
DTSTART;TZID=Pacific/Auckland:20260510T100000
DTEND;TZID=Pacific/Auckland:20260510T150000
DTSTAMP:20260425T063158
CREATED:20260326T223340Z
LAST-MODIFIED:20260326T223433Z
UID:10000253-1778407200-1778425200@turangacreek.co.nz
SUMMARY:Mother's Day High Tea @ Turanga Creek
DESCRIPTION:Join us at Turanga Creek Vineyard this Mother’s Day for High Tea! \nSunday\, 10th May 2026 \nSittings at 10am\, 11am\, 12pm\, 1pm\, 2pm \n$49pp *\nPrice includes a combination of slices\, sweets\, savouries\, and treats as well a variety of loose leaf tea \n* $25pp price for Children 2-12 years old\n* $59pp price includes a glass of Turanga Creek wine or Hallertau Beer
URL:https://turangacreek.co.nz/the-event/mothers-day-high-tea-2026/
LOCATION:Turanga Creek Vineyard
ATTACH;FMTTYPE=image/jpeg:https://turangacreek.co.nz/wp-content/uploads/2026/03/Mothers-Day-2026.jpg
END:VEVENT
BEGIN:VEVENT
DTSTART;TZID=Pacific/Auckland:20260517T100000
DTEND;TZID=Pacific/Auckland:20260517T120000
DTSTAMP:20260425T063158
CREATED:20260409T024615Z
LAST-MODIFIED:20260409T024746Z
UID:10000262-1779012000-1779019200@turangacreek.co.nz
SUMMARY:Wedding Venue Open Day
DESCRIPTION:Our next vineyard wedding open day is almost upon us! \nSunday\, 17th May 2026\n10am – 12pm \nExplore Turanga Creek Vineyard\, meet our team as well as some of our highly recommended vendors.\nEnjoy some light refreshments and mocktails plus mimosas served from Charlie Grace \nHosted tours by venue staff will be available every 30 minutes. \nThis event is free entry\, but for catering purposes please RSVP with your email address to get on the guest list
URL:https://turangacreek.co.nz/the-event/wedding-venue-open-day/
LOCATION:Turanga Creek Vineyard
ATTACH;FMTTYPE=image/jpeg:https://turangacreek.co.nz/wp-content/uploads/2026/04/Open-Day-Flier-May-2026-scaled.jpg
END:VEVENT
BEGIN:VEVENT
DTSTART;TZID=Pacific/Auckland:20260517T120000
DTEND;TZID=Pacific/Auckland:20260517T140000
DTSTAMP:20260425T063158
CREATED:20260126T014506Z
LAST-MODIFIED:20260126T015429Z
UID:10000238-1779019200-1779026400@turangacreek.co.nz
SUMMARY:Couple's Tasting Lunch
DESCRIPTION:Menu Tasting Lunch\nSunday\, 17th May 2026\n12pm until 2pm \nBooked your wedding at Turanga Creek?\nTwice a year we host a menu tasting opportunity for those getting married at Turanga Creek to come on down and sample some canapes\, buffet items\, dessert canapes and beverages. \n$80 per person ($160 per couple) \nPrice includes: A selection of Chef’s Choice Canapes\, Mains\, Desserts\nand two hours of Turanga Creek wine\, Hallertau Beer\, and Non Alcoholic Beverages
URL:https://turangacreek.co.nz/the-event/couples-tasting-lunch-may2026/
LOCATION:Turanga Creek Vineyard
ATTACH;FMTTYPE=image/jpeg:https://turangacreek.co.nz/wp-content/uploads/2026/01/Tasting-Lunch-17.05.26-scaled.jpg
END:VEVENT
BEGIN:VEVENT
DTSTART;TZID=Pacific/Auckland:20260522T170000
DTEND;TZID=Pacific/Auckland:20260522T200000
DTSTAMP:20260425T063158
CREATED:20260409T220119Z
LAST-MODIFIED:20260409T220510Z
UID:10000264-1779469200-1779480000@turangacreek.co.nz
SUMMARY:Thai Takeaways or Venue Dining
DESCRIPTION:Indulge in Turanga Creek Vineyard’s vibrant Thai Menu for dine-in or takeaway on selected dates; \nFriday\, 17th April\nSaturday\, 18th April\n&\nFriday\, 22nd May\nSaturday\, 23rd May \n5pm until 8pm \nYou can pre order below and collect on the night (just call us 20 minutes before desired pick up time)\nor phone the venue on 021 273 3968 and order on the day – Last pick up time is 8pm \nIf you would like to dine in at the vineyard\, the same menu is available 5pm until 8pm for walk ins
URL:https://turangacreek.co.nz/the-event/thai-takeaways-or-venue-dining-night3/
LOCATION:Turanga Creek Vineyard
ATTACH;FMTTYPE=image/png:https://turangacreek.co.nz/wp-content/uploads/2026/04/Thai-Menu-Nights-Full-Range.png
END:VEVENT
BEGIN:VEVENT
DTSTART;TZID=Pacific/Auckland:20260523T170000
DTEND;TZID=Pacific/Auckland:20260523T200000
DTSTAMP:20260425T063158
CREATED:20260409T221308Z
LAST-MODIFIED:20260409T221716Z
UID:10000265-1779555600-1779566400@turangacreek.co.nz
SUMMARY:Thai Takeaways or Venue Dining
DESCRIPTION:Indulge in Turanga Creek Vineyard’s vibrant Thai Menu for dine-in or takeaway on selected dates; \nFriday\, 17th April\nSaturday\, 18th April\n&\nFriday\, 22nd May\nSaturday\, 23rd May \n5pm until 8pm \nYou can pre order below and collect on the night (just call us 20 minutes before desired pick up time)\nor phone the venue on 021 273 3968 and order on the day – Last pick up time is 8pm \nIf you would like to dine in at the vineyard\, the same menu is available 5pm until 8pm for walk ins
URL:https://turangacreek.co.nz/the-event/thai-takeaways-or-venue-dining-night4/
LOCATION:Turanga Creek Vineyard
ATTACH;FMTTYPE=image/png:https://turangacreek.co.nz/wp-content/uploads/2026/04/Thai-Menu-Nights-Full-Range.png
END:VEVENT
BEGIN:VEVENT
DTSTART;TZID=Pacific/Auckland:20260524T110000
DTEND;TZID=Pacific/Auckland:20260524T130000
DTSTAMP:20260425T063158
CREATED:20260204T101922Z
LAST-MODIFIED:20260323T212438Z
UID:10000242-1779620400-1779627600@turangacreek.co.nz
SUMMARY:Rest and Restore at Turanga Creek Vineyard
DESCRIPTION:Rest & Restore\nYoga & Breathwork at Turanga Creek Vineyard\n\n2026 Session Dates have been announced:\nSunday\, 19th April\nSunday\, 24th May (you are on this session page)\nSunday\, 14th June\nSunday\, 12th July\nSunday\, 30th August\nSunday\, 13th September \nEach session will run from 11am until 1pm \nLight Lunch During Session\nYoga & Breathwork\nMelt Method with Rollers\nYoga Nidra Relaxation to Finish \n$59 per session\, or $349 for all 6 sessions
URL:https://turangacreek.co.nz/the-event/rest-and-restore-at-turanga-creek-vineyard-may2026/
LOCATION:Turanga Creek Vineyard
ATTACH;FMTTYPE=image/png:https://turangacreek.co.nz/wp-content/uploads/2026/02/Rest-and-Restore-2026-Dates-March-Updates.png
END:VEVENT
BEGIN:VEVENT
DTSTART;TZID=Pacific/Auckland:20260605T180000
DTEND;TZID=Pacific/Auckland:20260605T230000
DTSTAMP:20260425T063158
CREATED:20260409T114508Z
LAST-MODIFIED:20260422T071844Z
UID:10000263-1780682400-1780700400@turangacreek.co.nz
SUMMARY:Quiz & Disco Night
DESCRIPTION:Join us for a Quiz\, Disco & Dance at Turanga Creek Vineyard. \nFriday\, 5th June\n6pm – 11pm \n$29pp \nTables of 10 ($290) will also include a bottle of organic Turanga Creek wine \nPrice includes Antipasto Grazing table to share and quiz + dance party hosted by DJ Joolz \nBar Snacks Menu available\nVineyard bar will be open throughout \nArrive from 6pm\, settle in\nQuiz from 7-9pm\, Disco dance afterward \n  \n 
URL:https://turangacreek.co.nz/the-event/quiz-disco-night/
LOCATION:Turanga Creek Vineyard
ATTACH;FMTTYPE=image/jpeg:https://turangacreek.co.nz/wp-content/uploads/2026/04/Quiz-Disco-Night-June-2026.jpg
END:VEVENT
BEGIN:VEVENT
DTSTART;TZID=Pacific/Auckland:20260607T120000
DTEND;TZID=Pacific/Auckland:20260607T143000
DTSTAMP:20260425T063158
CREATED:20260331T222156Z
LAST-MODIFIED:20260331T222219Z
UID:10000256-1780833600-1780842600@turangacreek.co.nz
SUMMARY:Sunday Roast
DESCRIPTION:Sunday Roasts are back in Winter 2026! \n3 Dates\nSunday\, 7th June\nSunday\, 5th July\nSunday\, 9th August \nSittings at 12pm\, 12:30pm\, 1pm\, 1:30pm \n$39 per person \nMenu\n– Rare Roasted Beef Rump with Grilled Mushroom\n– Pork Shoulder Roast with Sauté Apples\n– Slow Roasted Lamb Shoulder with Balsamic Onions \nServed with:\n– Roasted Root Vegetables with Thyme & Garlic\n– Italian Slaw \nAdd: Optional Extra – Chef’s dessert of the day (P.O.A)\nAdd: Optional Extra – Bottle of Turanga Creek Vineyard Wine for $44
URL:https://turangacreek.co.nz/the-event/sunday-roast-june-2026/
LOCATION:Turanga Creek Vineyard
ATTACH;FMTTYPE=image/png:https://turangacreek.co.nz/wp-content/uploads/2026/04/SundayRoast_June-2026.png
END:VEVENT
BEGIN:VEVENT
DTSTART;TZID=Pacific/Auckland:20260614T110000
DTEND;TZID=Pacific/Auckland:20260614T130000
DTSTAMP:20260425T063158
CREATED:20260204T102321Z
LAST-MODIFIED:20260323T212556Z
UID:10000243-1781434800-1781442000@turangacreek.co.nz
SUMMARY:Rest and Restore at Turanga Creek Vineyard
DESCRIPTION:Rest & Restore\nYoga & Breathwork at Turanga Creek Vineyard\n\n2026 Session Dates have been announced:\nSunday\, 19th April\nSunday\, 24th May\nSunday\, 14th June (you are on this session page)\nSunday\, 12th July\nSunday\, 30th August\nSunday\, 13th September \nEach session will run from 11am until 1pm \nLight Lunch During Session\nYoga & Breathwork\nMelt Method with Rollers\nYoga Nidra Relaxation to Finish \n$59 per session\, or $349 for all 6 sessions
URL:https://turangacreek.co.nz/the-event/rest-and-restore-at-turanga-creek-vineyard-june2026/
LOCATION:Turanga Creek Vineyard
ATTACH;FMTTYPE=image/png:https://turangacreek.co.nz/wp-content/uploads/2026/02/Rest-and-Restore-2026-Dates-March-Updates.png
END:VEVENT
BEGIN:VEVENT
DTSTART;TZID=Pacific/Auckland:20260705T120000
DTEND;TZID=Pacific/Auckland:20260705T143000
DTSTAMP:20260425T063158
CREATED:20260331T223321Z
LAST-MODIFIED:20260331T223321Z
UID:10000257-1783252800-1783261800@turangacreek.co.nz
SUMMARY:Sunday Roast
DESCRIPTION:Sunday Roasts are back in Winter 2026! \n3 Dates\nSunday\, 7th June\nSunday\, 5th July\nSunday\, 9th August \nSittings at 12pm\, 12:30pm\, 1pm\, 1:30pm \n$39 per person \nMenu\n– Rare Roasted Beef Rump with Grilled Mushroom\n– Pork Shoulder Roast with Sauté Apples\n– Slow Roasted Lamb Shoulder with Balsamic Onions \nServed with:\n– Roasted Root Vegetables with Thyme & Garlic\n– Italian Slaw \nAdd: Optional Extra – Chef’s dessert of the day (P.O.A)\nAdd: Optional Extra – Bottle of Turanga Creek Vineyard Wine for $44
URL:https://turangacreek.co.nz/the-event/sunday-roast-july-2026/
LOCATION:Turanga Creek Vineyard
ATTACH;FMTTYPE=image/png:https://turangacreek.co.nz/wp-content/uploads/2026/04/SundayRoast_July-2026.png
END:VEVENT
BEGIN:VEVENT
DTSTART;TZID=Pacific/Auckland:20260712T110000
DTEND;TZID=Pacific/Auckland:20260712T130000
DTSTAMP:20260425T063158
CREATED:20260204T102609Z
LAST-MODIFIED:20260323T212640Z
UID:10000244-1783854000-1783861200@turangacreek.co.nz
SUMMARY:Rest and Restore at Turanga Creek Vineyard
DESCRIPTION:Rest & Restore\nYoga & Breathwork at Turanga Creek Vineyard\n  \n2026 Session Dates have been announced:\nSunday\, 19th April\nSunday\, 24th May\nSunday\, 14th June\nSunday\, 12th July (you are on this session page)\nSunday\, 30th August\nSunday\, 13th September \nEach session will run from 11am until 1pm \nLight Lunch During Session\nYoga & Breathwork\nMelt Method with Rollers\nYoga Nidra Relaxation to Finish \n$59 per session\, or $349 for all 6 sessions
URL:https://turangacreek.co.nz/the-event/rest-and-restore-at-turanga-creek-vineyard-july2026/
LOCATION:Turanga Creek Vineyard
ATTACH;FMTTYPE=image/png:https://turangacreek.co.nz/wp-content/uploads/2026/02/Rest-and-Restore-2026-Dates-March-Updates.png
END:VEVENT
BEGIN:VEVENT
DTSTART;TZID=Pacific/Auckland:20260801T100000
DTEND;TZID=Pacific/Auckland:20260801T140000
DTSTAMP:20260425T063158
CREATED:20260212T200753Z
LAST-MODIFIED:20260324T062632Z
UID:10000249-1785578400-1785592800@turangacreek.co.nz
SUMMARY:Rest and Restore Retreat at Turanga Creek Vineyard
DESCRIPTION:Rest & Restore Retreat at Turanga Creek Vineyard\n\n2026 Dates have been announced:\nSaturday\, 9th May\nSaturday\, 1st August \nEach session will run from 10am until 2pm \n10am – Setting intention and breath work\n10:15am – Gentle Yoga\n11am to 11:15am – Talk “Self Love” with Tammy McCann\n11:15am to 11:45am – Mat Pilates\n11:45am to 12pm – Melt Method Roller\n12pm to 1pm – Lunch\n1pm to 1:45pm – Yin Yoga\n1:45pm to 2pm – Meditation \n$118 per session
URL:https://turangacreek.co.nz/the-event/rest-and-restore-retreat-at-turanga-creek-vineyard-august2026/
LOCATION:Turanga Creek Vineyard
ATTACH;FMTTYPE=image/jpeg:https://turangacreek.co.nz/wp-content/uploads/2026/02/image001.jpg
END:VEVENT
BEGIN:VEVENT
DTSTART;TZID=Pacific/Auckland:20260809T120000
DTEND;TZID=Pacific/Auckland:20260809T143000
DTSTAMP:20260425T063158
CREATED:20260331T223804Z
LAST-MODIFIED:20260331T223804Z
UID:10000258-1786276800-1786285800@turangacreek.co.nz
SUMMARY:Sunday Roast
DESCRIPTION:Sunday Roasts are back in Winter 2026! \n3 Dates\nSunday\, 7th June\nSunday\, 5th July\nSunday\, 9th August \nSittings at 12pm\, 12:30pm\, 1pm\, 1:30pm \n$39 per person \nMenu\n– Rare Roasted Beef Rump with Grilled Mushroom\n– Pork Shoulder Roast with Sauté Apples\n– Slow Roasted Lamb Shoulder with Balsamic Onions \nServed with:\n– Roasted Root Vegetables with Thyme & Garlic\n– Italian Slaw \nAdd: Optional Extra – Chef’s dessert of the day (P.O.A)\nAdd: Optional Extra – Bottle of Turanga Creek Vineyard Wine for $44
URL:https://turangacreek.co.nz/the-event/sunday-roast-august-2026/
LOCATION:Turanga Creek Vineyard
ATTACH;FMTTYPE=image/png:https://turangacreek.co.nz/wp-content/uploads/2026/04/SundayRoast_August-2026.png
END:VEVENT
BEGIN:VEVENT
DTSTART;TZID=Pacific/Auckland:20260830T110000
DTEND;TZID=Pacific/Auckland:20260830T130000
DTSTAMP:20260425T063158
CREATED:20260204T102816Z
LAST-MODIFIED:20260323T212746Z
UID:10000245-1788087600-1788094800@turangacreek.co.nz
SUMMARY:Rest and Restore at Turanga Creek Vineyard
DESCRIPTION:Rest & Restore\nYoga & Breathwork at Turanga Creek Vineyard\n\n \n2026 Session Dates have been announced:\nSunday\, 19th April\nSunday\, 24th May\nSunday\, 14th June\nSunday\, 12th July\nSunday\, 30th August (you are on this session page)\nSunday\, 13th September \nEach session will run from 11am until 1pm \nLight Lunch During Session\nYoga & Breathwork\nMelt Method with Rollers\nYoga Nidra Relaxation to Finish \n$59 per session\, or $349 for all 6 sessions
URL:https://turangacreek.co.nz/the-event/rest-and-restore-at-turanga-creek-vineyard-august2026/
LOCATION:Turanga Creek Vineyard
ATTACH;FMTTYPE=image/png:https://turangacreek.co.nz/wp-content/uploads/2026/02/Rest-and-Restore-2026-Dates-March-Updates.png
END:VEVENT
BEGIN:VEVENT
DTSTART;TZID=Pacific/Auckland:20260913T110000
DTEND;TZID=Pacific/Auckland:20260913T130000
DTSTAMP:20260425T063158
CREATED:20260204T103005Z
LAST-MODIFIED:20260323T212840Z
UID:10000246-1789297200-1789304400@turangacreek.co.nz
SUMMARY:Rest and Restore at Turanga Creek Vineyard
DESCRIPTION:Rest & Restore\nYoga & Breathwork at Turanga Creek Vineyard\n  \n2026 Session Dates have been announced:\nSunday\, 19th April\nSunday\, 24th May\nSunday\, 14th June\nSunday\, 12th July\nSunday\, 30th August\nSunday\, 13th September (you are on this session page) \nEach session will run from 11am until 1pm \nLight Lunch During Session\nYoga & Breathwork\nMelt Method with Rollers\nYoga Nidra Relaxation to Finish \n$59 per session\, or $349 for all 6 sessions
URL:https://turangacreek.co.nz/the-event/rest-and-restore-at-turanga-creek-vineyard-september2026/
LOCATION:Turanga Creek Vineyard
ATTACH;FMTTYPE=image/png:https://turangacreek.co.nz/wp-content/uploads/2026/02/Rest-and-Restore-2026-Dates-March-Updates.png
END:VEVENT
BEGIN:VEVENT
DTSTART;TZID=Pacific/Auckland:20260926T130000
DTEND;TZID=Pacific/Auckland:20260926T170000
DTSTAMP:20260425T063158
CREATED:20260422T074340Z
LAST-MODIFIED:20260422T074903Z
UID:10000268-1790427600-1790442000@turangacreek.co.nz
SUMMARY:Braai Day 2026
DESCRIPTION:Celebrate Braai Day at Turanga Creek! \n\nA true taste of South Africa\, delicious food\, great company\, and a celebration of heritage. \n\nSaturday\, 26th September 2026\n\nSittings at 1pm\, 2pm\, and 3pm \n\n$55pp\n($29pp – Children 2-12years)\n\nEach Adult ticket includes a Glass of Hallertau Beer or a Glass of Turanga Creek Wine (or non alcoholic alternative)\n\n2026 Menu to be finalised. Last years menu below to give you a sneak peak.\n\n\n\n2025 Braai Menu:\nMeats:\n• Boerewors – Traditional South African sausage\, grilled to perfection\n• Chicken Skewers – Marinated in lemon & herb or peri-peri sauce\n• Lamb Chops – Spiced with rosemary\, garlic & olive oil\n• Pork Ribs – Slow-grilled & basted with Bourbon BBQ\n• Beef Steaks – Flame-grilled with dry rub\n\n\nSides:\n• Potato Salad – Creamy\, with egg\, herbs & a hint of mustard\n• Coleslaw – Crisp cabbage & carrot in a tangy dressing\n• Braai Broodjies – Cheese & tomato toasties\n• Chuckalaka – Salsa\n\n\n\nOptional Dessert:\n• Malva Pudding & custard
URL:https://turangacreek.co.nz/the-event/braai-day-2026/
LOCATION:Turanga Creek Vineyard
ATTACH;FMTTYPE=image/jpeg:https://turangacreek.co.nz/wp-content/uploads/2026/04/A4-Braai-Day-Poster-September-2026-scaled.jpg
END:VEVENT
BEGIN:VEVENT
DTSTART;TZID=Pacific/Auckland:20261101T090000
DTEND;TZID=Pacific/Auckland:20261101T103000
DTSTAMP:20260425T063158
CREATED:20260422T070659Z
LAST-MODIFIED:20260422T070845Z
UID:10000267-1793523600-1793529000@turangacreek.co.nz
SUMMARY:Pilates & Coffee Perk by the Vines
DESCRIPTION:Join us for Pilates & Coffee Perk by the Vines\, a relaxed summer‑morning outdoor session hosted by Core  Strength Pilates Studio and fueled by Charlie  Grace Coffee. \nSunday\, 1st November 2026\n9am – 10:30am\nTuranga Creek Vineyard\n133 Whitford Park Road\, Whitford \n$29pp \n9:00 AM  –  Arrival \n9:15 AM  –  Pilates Session by Core Strength\nA 60‑minute guided flow designed to awaken your body\, strengthen the core\, and refresh your mind — suitable for all experience levels. Rochelle will lead this. \n10:15 AM  –  Cool Down\nA light snack and an iced coffee / ice chocolate / herbal tea and light sweet treats at the conclusion
URL:https://turangacreek.co.nz/the-event/pilates-coffee-perk-by-the-vines-november2026/
LOCATION:Turanga Creek Vineyard
ATTACH;FMTTYPE=image/jpeg:https://turangacreek.co.nz/wp-content/uploads/2026/04/Pilates  Coffee Perk by the Vines-November-2026.jpg
END:VEVENT
BEGIN:VEVENT
DTSTART;TZID=Pacific/Auckland:20261108T130000
DTEND;TZID=Pacific/Auckland:20261108T150000
DTSTAMP:20260425T063158
CREATED:20260126T015332Z
LAST-MODIFIED:20260211T075535Z
UID:10000239-1794142800-1794150000@turangacreek.co.nz
SUMMARY:Couple's Tasting Lunch
DESCRIPTION:Menu Tasting Lunch\nSunday\, 8th November 2026\n1pm until 3pm \nBooked your wedding at Turanga Creek?\nTwice a year we host a menu tasting opportunity for those getting married at Turanga Creek to come on down and sample some canapes\, buffet items\, dessert canapes and beverages. \n$80 per person ($160 per couple) \nPrice includes: A selection of Chef’s Choice Canapes\, Mains\, Desserts\nand two hours of Turanga Creek wine\, Hallertau Beer\, and Non Alcoholic Beverages
URL:https://turangacreek.co.nz/the-event/couples-tasting-lunch-november2026/
LOCATION:Turanga Creek Vineyard
ATTACH;FMTTYPE=image/png:https://turangacreek.co.nz/wp-content/uploads/2026/01/Tasting-Lunch-08.11.26.png
END:VEVENT
END:VCALENDAR